BEGIN:VCALENDAR
VERSION:2.0
PRODID:-//Squarespace Inc/Squarespace 6//v6//EN
BEGIN:VEVENT
UID:5bf1e5ae03ce64bc230c53d2@squarespace.com
DTSTAMP:20181126T233845Z
DTSTART:20181129T040000Z
DTEND:20181129T080000Z
SUMMARY:Date Night @ The Landing
GEO:40.720756;-74.000761
LOCATION:The Riverhead\, 66 York Terrace\, Riverhead\, New Zealand
END:VEVENT
END:VCALENDAR
