BEGIN:VCALENDAR
VERSION:2.0
PRODID:-//Squarespace Inc/Squarespace 6//v6//EN
BEGIN:VEVENT
UID:5bf1ee78c2241b40fbfea579@squarespace.com
DTSTAMP:20181126T233742Z
DTSTART:20181128T220000Z
DTEND:20181129T090000Z
SUMMARY:Burgers and Beers Thursdays @ The Portage Bar
GEO:-36.759033;174.597475
LOCATION:The Riverhead\, 66 York Terrace\, Riverhead\, New Zealand
END:VEVENT
END:VCALENDAR
