BEGIN:VCALENDAR
VERSION:2.0
PRODID:-//Squarespace Inc/Squarespace 6//v6//EN
BEGIN:VEVENT
UID:5bf1ed8eb8a0450cc3d34a63@squarespace.com
DTSTAMP:20181126T233700Z
DTSTART:20181128T040000Z
DTEND:20181128T090000Z
SUMMARY:Steak and Oyster Wednesdays @ The Landing
GEO:-36.759017;174.597487
LOCATION:The Riverhead\, 66 York Terrace\, Riverhead\, New Zealand
END:VEVENT
END:VCALENDAR
