BEGIN:VCALENDAR
VERSION:2.0
PRODID:-//Squarespace Inc/Squarespace 6//v6//EN
BEGIN:VEVENT
UID:5bf1edb92b6a28d6309d0fdc@squarespace.com
DTSTAMP:20181126T233604Z
DTSTART:20181127T040000Z
DTEND:20181127T060000Z
SUMMARY:Kids Eat Free @ The Landing
GEO:-36.759017;174.597487
LOCATION:The Riverhead\, 66 York Terrace\, Riverhead\, Auckland\, 0820\, Ne
 w Zealand
END:VEVENT
END:VCALENDAR
